BEGIN:VCALENDAR
VERSION:2.0
PRODID:icalendar-ruby
CALSCALE:GREGORIAN
METHOD:PUBLISH
BEGIN:VEVENT
DTSTAMP:20260423T131221Z
UID:141-888533@lansingunited222.tithelysetup5.com
DTSTART:20260423T210000Z
DTEND:20260423T233000Z
CLASS:PUBLIC
CREATED:20260420T194513
DESCRIPTION:
LAST-MODIFIED:20260420T194513
LOCATION:Library
SUMMARY:Event
URL;VALUE=URI:https://lansingunited.org/events/event/2026-04-23
END:VEVENT
END:VCALENDAR
