BEGIN:VCALENDAR
VERSION:2.0
PRODID:icalendar-ruby
CALSCALE:GREGORIAN
METHOD:PUBLISH
BEGIN:VEVENT
DTSTAMP:20260423T193139Z
UID:141-888538@lansingunited222.tithelysetup5.com
DTSTART:20260924T210000Z
DTEND:20260924T233000Z
CLASS:PUBLIC
CREATED:20260420T194513
DESCRIPTION:
LAST-MODIFIED:20260420T194513
LOCATION:Library
SUMMARY:Event
URL;VALUE=URI:https://lansingunited.org/events/event/2026-09-24
END:VEVENT
END:VCALENDAR
