BEGIN:VCALENDAR
VERSION:2.0
PRODID:icalendar-ruby
CALSCALE:GREGORIAN
METHOD:PUBLISH
BEGIN:VEVENT
DTSTAMP:20260421T150403Z
UID:103-890537@lansingunited222.tithelysetup5.com
DTSTART:20260506T133000Z
DTEND:20260506T143000Z
CLASS:PUBLIC
CREATED:20260421T083140
DESCRIPTION:
LAST-MODIFIED:20260421T083140
LOCATION:Library
SUMMARY:Staff Meeting
URL;VALUE=URI:https://lansingunited.org/events/staff-meeting--103/2026-05-0
 6
ATTACH;FILENAME=Fk9SJ.jpg;FMTTYPE=image/jpeg:https://dq5pwpg1q8ru0.cloudfro
 nt.net/2026/02/27/02/49/25/2a630be8-e8cd-40fc-adc0-186c1de73fd4/Fk9SJ.jpg
END:VEVENT
END:VCALENDAR
